BEGIN:VCALENDAR
VERSION:2.0
PRODID:-//PAS - ECPv6.15.17.1//NONSGML v1.0//EN
CALSCALE:GREGORIAN
METHOD:PUBLISH
X-WR-CALNAME:PAS
X-ORIGINAL-URL:https://pas-berlin.org
X-WR-CALDESC:Events for PAS
REFRESH-INTERVAL;VALUE=DURATION:PT1H
X-Robots-Tag:noindex
X-PUBLISHED-TTL:PT1H
BEGIN:VTIMEZONE
TZID:Europe/Berlin
BEGIN:DAYLIGHT
TZOFFSETFROM:+0100
TZOFFSETTO:+0200
TZNAME:CEST
DTSTART:20210328T010000
END:DAYLIGHT
BEGIN:STANDARD
TZOFFSETFROM:+0200
TZOFFSETTO:+0100
TZNAME:CET
DTSTART:20211031T010000
END:STANDARD
BEGIN:DAYLIGHT
TZOFFSETFROM:+0100
TZOFFSETTO:+0200
TZNAME:CEST
DTSTART:20220327T010000
END:DAYLIGHT
BEGIN:STANDARD
TZOFFSETFROM:+0200
TZOFFSETTO:+0100
TZNAME:CET
DTSTART:20221030T010000
END:STANDARD
BEGIN:DAYLIGHT
TZOFFSETFROM:+0100
TZOFFSETTO:+0200
TZNAME:CEST
DTSTART:20230326T010000
END:DAYLIGHT
BEGIN:STANDARD
TZOFFSETFROM:+0200
TZOFFSETTO:+0100
TZNAME:CET
DTSTART:20231029T010000
END:STANDARD
END:VTIMEZONE
BEGIN:VTIMEZONE
TZID:UTC
BEGIN:STANDARD
TZOFFSETFROM:+0000
TZOFFSETTO:+0000
TZNAME:UTC
DTSTART:20210101T000000
END:STANDARD
END:VTIMEZONE
BEGIN:VEVENT
DTSTART;TZID=Europe/Berlin:20221017T200000
DTEND;TZID=Europe/Berlin:20221017T233000
DTSTAMP:20260422T073738
CREATED:20221013T050123Z
LAST-MODIFIED:20221015T124803Z
UID:1427-1666036800-1666049400@pas-berlin.org
SUMMARY:Three sets on Monday: Anders & Salminen / Wong & Tolimieri / Jahu\, Vihterpal\, Alalooga
DESCRIPTION:Three sets at PAS \n\n\n\nIsabel Anders – pianoSiri Salminen – movements \n\n\n\nEric Wong – guitarQuentin Tolimieri – synth \n\n\n\ntrio Post-KalininVillem Jahu – synths\, electronicsJuhan Vihterpal – drumsErik Alalooga – diy sound mobile \n\n\n\nEntrance in the courtyard\, Ausgang IIDoors 20-00\, music a bit later.
URL:https://pas-berlin.org/event/three-sets-on-monday-anders-salminen-wong-tolimieri-jahu-vihterpal-alalooga/
CATEGORIES:Concert
ATTACH;FMTTYPE=image/jpeg:https://pas-berlin.org/wp-content/uploads/2022/10/fbposter-копия-1.jpg
END:VEVENT
BEGIN:VEVENT
DTSTART;TZID=Europe/Berlin:20221016T200000
DTEND;TZID=Europe/Berlin:20221016T233000
DTSTAMP:20260422T073738
CREATED:20221013T043600Z
LAST-MODIFIED:20221013T043601Z
UID:1424-1665950400-1665963000@pas-berlin.org
SUMMARY:vovne series: RAZMOTCHIKI KATUSHEK / Galina Ozeran / diskjochie grrrt
DESCRIPTION:vovne series: three projects \n\n\n\nRAZMOTCHIKI KATUSHEKis an industrial electro duo\, conceived and nurtured by two seasoned masters of the experimental scene: Ekaterina Fedorova (Iva Nova\, ZGA\, FIGS) and Remko Muermans (ex-ZEA\, Holland).Ekaterina Fedorova – drums\, samples\, noise objectsRemko Muermans – noise effects\, electronics\, samples \n\n\n\nGalina Ozeran more known as Chikiss is a singer and pianist\, composer and electronic producer\, born in Belarus\, based in Berlin. \n\n\n\ndiskjochie grrrtunpredictable vinyl dj set without restrictions \n\n\n\nKindly supported by Neustart Kulture\, Initiative Musik.vovne series\, concert series of improvised and new music. the series is rooted in distant Siberia and also periodically takes place in several cities of Russia. at the moment\, one of the longest series of concerts at PAS. “vovne” means “to be outside / to go outside / something that is outside”. to listen or to play\, or to understand\, or to feel\, or to see – it means to go “outside” to be “vovne”. \n\n\n\nMore info:RAZMOTCHIKI KATUSHEK is an industrial electro duo\, conceived and nurtured by two seasoned masters of the experimental scene: Ekaterina Fedorova (Iva Nova\, ZGA\, FIGS) and Remko Muermans (ex-ZEA\, Holland). For several years they have been meticulously assembling and connecting the conceptual forms of electronics and industrial into an organic symbiosis\, presenting the audience with a deeply original product at the intersection of these two worlds of music. These two veterans of the stage will immerse you in a balmy world of analogue effects\, live and electronic rhythm\, domestic noise and the positive constructivism of soothing factory sounds. \n\n\n\nEkaterina Fedorova – drums\, samples\, noise objects Remko Muermans – noise effects\, electronics\, samples \n\n\n\nMusic: http://razmotchiki.bandcamp.comVideo : https://www.youtube.com/watch?v=6cG7WkvpjiMhttps://youtube.com/channel/UC4qtWicOtD65TjubZcsCnIAWebsite: http://razmotchiki.com \n\n\n\nGalina Ozeran more known as Chikiss is a singer and pianist\, composer and electronic producer\, born in Belarus\, based in Berlin. Having recorded her first album in 2005\, she has produced a large musical output from post-punk and psychedelic rock to minimalistic synthesizer pop and spectral ascetic electronics. Chikiss has six full-length albums and numerous singles\, EPs\, mixtapes\, concerts in alternative music centres and international festivals. Also projects with musicians from different countries such as Ensemble Economique\, Eva Geist\, Thomas Azier\, Die Wilde Jagd\, Barbara Morgenstern\, Bad Hammer\, Pilocka Krach\, Etkin Cekin\, Sveta Ben\, Maya Postepski and many others. The resident of the labels Not Not Fun\, Crash Symbols\, Intergalactic Research Institute for Sound\, Space Ritual\, Bureau B (God is God). As a solo artist and in various collaborations she has created her personal and idiosyncratic style. \n\n\n\ndiskjochie grrrtUnpredictable vinyl dj set without restrictions
URL:https://pas-berlin.org/event/vovne-series-razmotchiki-katushek-galina-ozeran-diskjochie-grrrt/
CATEGORIES:Concert
ATTACH;FMTTYPE=image/jpeg:https://pas-berlin.org/wp-content/uploads/2022/10/vovne-series-fb-10-16.jpg
END:VEVENT
BEGIN:VEVENT
DTSTART;TZID=Europe/Berlin:20221014T193000
DTEND;TZID=Europe/Berlin:20221015T030000
DTSTAMP:20260422T073738
CREATED:20221010T150217Z
LAST-MODIFIED:20221010T150218Z
UID:1397-1665775800-1665802800@pas-berlin.org
SUMMARY:PAS Treehouse
DESCRIPTION:PAS’ Treehouse is more comfortable than a club\, more social than your bedroom\, and more fun than a bar. Ideal for anyone who wants a night out without stress. Sit back on a cozy sofa and enjoy live music\, DJ sets\, art stations\, books\, tattoos\, live visuals\, cheap drinks\, good company\, and healthy plants.
URL:https://pas-berlin.org/event/pas-treehouse/
LOCATION:PAS\, Kaiserin-Augusta-Allee 101\, Hinterhof Aufgang II\, First Floor\, Berlin\, Berlin\, 10553\, Germany
ATTACH;FMTTYPE=image/png:https://pas-berlin.org/wp-content/uploads/2022/10/Treehouse-6.png
END:VEVENT
BEGIN:VEVENT
DTSTART;TZID=Europe/Berlin:20221013T200000
DTEND;TZID=Europe/Berlin:20221013T233000
DTSTAMP:20260422T073738
CREATED:20221012T053628Z
LAST-MODIFIED:20221012T053629Z
UID:1414-1665691200-1665703800@pas-berlin.org
SUMMARY:Dunscombe\, Shirokov\, Anufrienko | Tsypin\, Rodrigues\, Stepanov
DESCRIPTION:Two trios at PAS \n\n\n\nSam Dunscombe – clarinetKirill Shirokov – pianoAlina Anufrienko – cello \n\n\n\nMikhail Tsypin – voiceGuilherme Rodrigues – celloFyodor Stepanov – bass\, electronics \n\n\n\nEntrance in the courtyard\, Ausgang IIDoors 20-00\, music a bit later.
URL:https://pas-berlin.org/event/dunscombe-shirokov-anufrienko-tsypin-rodrigues-stepanov/
CATEGORIES:Concert
ATTACH;FMTTYPE=image/jpeg:https://pas-berlin.org/wp-content/uploads/2022/10/fbposter-копия.jpg
END:VEVENT
BEGIN:VEVENT
DTSTART;TZID=Europe/Berlin:20221012T193000
DTEND;TZID=Europe/Berlin:20221012T233000
DTSTAMP:20260422T073738
CREATED:20221012T051657Z
LAST-MODIFIED:20221012T053825Z
UID:1412-1665603000-1665617400@pas-berlin.org
SUMMARY:A.I.D and abet! #4
DESCRIPTION:A.I.D and abet! #4A.I.D (Art is Dead) is an organization that came together with the purpose of breaking ties with musical criteria defined so far. Art is Dead is a fluid heading referring to the point music has come today with new technologies\, methods\, reasonings and experimental attitudes; for it involves a wide-ranging scale from acoustic improvisation performances to pre-composed electroacoustic pieces; from severe-harsh noise styles to hardcore / terror sets\, and site-specific interactive/multidisciplinary spatializations & installations and alike.https://artisdead.in/contact: aidfest@gmail.com \n\n\n\n⋯ SELF TOXICATIONNoise of amplified voice and feedbacks.www.kazehitoseki.com \n\n\n\n⋯ FLUT + FLORIAN MÜLLER & JOE HERTENSTEINFLUT ist die achtjährige Freundschaft und gemeinsam geteilte Bühnenpräsenz der Kontrabassistin Isabel Rößler und des Sopran- und Tenorsaxohponisten Christopher Kunz. Im langjährig erarbeiteten musikalischen Verständnis füreinander kreieren beide\, mit verschiedenen Protagonisten der frei improvisierenden Szene Berlins und Leipzigs\, eine eindringliche Interpretation von Free Jazz\, die in langen Bögen\, mutierenden Texturen und starken Kontrasten\, einen Sog aus geräusch- und songhaften Momenten entwickelt.Innerhalb dieser frei fließenden Kommunikationsform agieren beide mit fortbestehenden Besetzungen\, oder aber im Spannungsfeld eines offenen und flexiblen Formats an diesem Abend mit dem Gitarristen Florian Müller und dem Schlagzeuger Joe Hertenstein.https://www.facebook.com/flut3 \n\n\n\nChristopher Kunz – Sopran- / TenorsaxophonFlorian Müller – GitarreIsabel Rößler – KontrabassJoe Hertenstein – Schlagzeug \n\n\n\n⋯ TRIO PELSOOtto Horváth – Trombone\, pocket trumpet\, vocalsDaniel Schatz – Electronics\, samplesMargaret Unknown – Vocals\, lap steel\, samplerwww.ottohorvath.orghttp://www.margaretunknown.com/https://youtube.com/watch?v=P5tck2LX2is&feature=share \n\n\n\n⋯ DESERT DRONEDesert Drone is the audiovisual Techno/Industrial/Noise project of the italian musician Mauro Uda\, based in Berlin\, co-founder of Autonoma Industriale.His approach to live music\, developed during the years through the obsession for dramatic and dark sound\, leads to a quasi-nihilistic and distorted music structure\, with noisy rhythms and rough bass line that walk in an anti-utopic vision of the fact.https://linktr.ee/DesertDrone \n\n\n\n⋯ LAS MIGRAÑASIn the beginning of 2021\, in the twilight of the pandemic\, after years of knowing each other and shortly after finding the other also living in Berlin\, Las Migrañas teamed up and started a composition and rehearsal routine that brought in a short time a vast and exciting repertoire of twisted south american anthems through punkish krautrock lenses.Las Migrañas played extensively in this short time in the Berlin music scene\, in venues such as Loophole\, 3XXXTR\, Backsteinboot and West Germany\, as well as DIY concerts like Platten-Kosmos and La Mona De Oro. In November 2021 they recorded a live session of their single “Petróleo” with Kiremico Productions\, and on the 6th of May 2022 released their first EP “Los Síntomas”\, recorded by themselves with the help of Mona Golden Records. They are now working on the 2nd EP\, planned for November 2022.https://lasmigranias.bandcamp.com/releaseshttps://youtu.be/_2o-fLWVBhM \n\n\n\n⋯ THREADEDDREAMS™ (DJ)Romain Bertheau aka ThreadedDreams™ (born in 1983) is a French keyboardist (Pianoforte\, Harpsichord and Organ)\, and a vaporwave artist. After studying and teaching baroque music in Paris\, he left Europe for Asia and recorded traditional songs for several years.Settled in Berlin since 2020 cause of the pandemic\, he started working on church organs and “no input mixer”.https://romainbertheau.com/
URL:https://pas-berlin.org/event/a-i-d-and-abet-4/
CATEGORIES:Concert
ATTACH;FMTTYPE=image/jpeg:https://pas-berlin.org/wp-content/uploads/2022/10/309426226_2284022348428764_2053750697777783754_n.jpg
END:VEVENT
BEGIN:VEVENT
DTSTART;TZID=Europe/Berlin:20220426T193000
DTEND;TZID=Europe/Berlin:20220426T230000
DTSTAMP:20260422T073738
CREATED:20220416T202710Z
LAST-MODIFIED:20220416T202711Z
UID:1223-1651001400-1651014000@pas-berlin.org
SUMMARY:GET GRANTS! Seminar for cultural workers
DESCRIPTION:Is there a project that you want to make real? If yes\, come to PAS\, learn about the lucrative German grant system and meet fellow artists looking to create their projects\, too.By the end of the event\, you can expect to have gained an overview of the steps involved in finding and applying for grants\, and have found fellow fighters in the world in culture.  \n\n\n\nInformative handouts and digital links will be shared as well.This event will be specifically relevant to you if you are planning an undertaking in Theatre\, Dance\, Literature\, Journalism\, Music\, Visual Arts\, Film\, Computer Games\, or Architecture.
URL:https://pas-berlin.org/event/get-grants-seminar-for-cultural-workers/
LOCATION:PAS\, Kaiserin-Augusta-Allee 101\, Hinterhof Aufgang II\, First Floor\, Berlin\, Berlin\, 10553\, Germany
END:VEVENT
BEGIN:VEVENT
DTSTART;TZID=Europe/Berlin:20220422T190000
DTEND;TZID=Europe/Berlin:20220423T030000
DTSTAMP:20260422T073738
CREATED:20220416T202503Z
LAST-MODIFIED:20220416T202504Z
UID:1221-1650654000-1650682800@pas-berlin.org
SUMMARY:Drawing in the Ambient Treehouse
DESCRIPTION:The intricacies of Shibari and Aerial acrobatics are challenging to capture\, but creates new ways to study our human anatomy. This event gives visual artists the opportunity to work from life\, whilst experiencing breathtaking Shibari and Acrobatic performances. Shibari is a form of Japanese rope tying that juxtaposes geometric patterns and shapes with the body’s natural curves and textures. The model is a canvas\, and the rigger an artist who paints with rope. These aesthetic and intricate knot arrangements also stimulate pressure points in the body and can become a form of massage. Aerial acrobatics (Luftakrobatik) involves a steel hoop suspended from the ceiling in which an artist performs acrobatic and contortionist tricks. Commonly seen in the circus\, it combines elements of acrobatics\, contortion and dance\, enabling the performer to hang from atypical body parts\, such as the elbows\, the shoulders\, or even the neck. In aerial acrobatics\, poses balance physical exertion with techniques such as twists and hooks\, providing peculiar viewing angles that make for a unique live drawing experience. \n\n\n\nFollowing the drawing sessions\, soul-stirring ambient sets will carry the night into the early hours.Pacific Rift will meld a selection from Asmus Tietchens Hydrophonie studies and Donato Dozzy’s most intimate works with personal field recordings and Sahara’s Azu Tiwaline’ latest release for Livity Sound.Mitchell Keaney’s commanding flow of drones\, field recordings and loops promises a live set that transforms the world about us into a profound soundscape of mindful rendition.Daniel Craig will re-order the inner and outer sound worlds with the use of concrete sounds\, reel-to-reel tape and MaxMSP\, amongst other things.The drawing class will begin at 19:00 and end at 21:00.The ambient sets will start at 20:00 and run until at least 02:00.In order to keep things comfortable\, we’re capping the capacity at 101 and asking visitors to take off their shoes in the entrance hall before entering the living room. We will have slippers for you to use if you like\, but you are welcome to bring whatever makes you feel comfortable from home.  \n\n\n\nSo long as the vibes are right\, we’ll keep the party going passed the posted time.If you would like to reserve a spot for yourself and a +1\, feel free to email tech@pas-berlin.org with your name and the name of your guest.
URL:https://pas-berlin.org/event/drawing-in-the-ambient-treehouse/
LOCATION:PAS\, Kaiserin-Augusta-Allee 101\, Hinterhof Aufgang II\, First Floor\, Berlin\, Berlin\, 10553\, Germany
END:VEVENT
BEGIN:VEVENT
DTSTART;TZID=Europe/Berlin:20220420T190000
DTEND;TZID=Europe/Berlin:20220420T230000
DTSTAMP:20260422T073738
CREATED:20220416T202233Z
LAST-MODIFIED:20220416T202233Z
UID:1219-1650481200-1650495600@pas-berlin.org
SUMMARY:Writers Circle
DESCRIPTION:An evening bringing writers together\, be it poets\, songwriters\, comedians\, or a tentative journal writer\, the purpose of this night is to use our wonderful communal space to create a comfortable environment for interdisciplinary sharing and a community of interdisciplinary writers. Whether you want to come and read\, listen\, or discuss\, all are welcome. The common tongue will probably be English\, but you’re welcome and encouraged to read in any language you like. \n\n\n\nThe theme is: EKPHRASIS! Ekphrasis is the practice of creating a work of art\, based on another form of art. For example\, a poem about a painting. The aim here is to encourage interdisciplinary exchange\, to be able to speak across artistic disciplines. The theme is only a recommendation\, you can present any work you like off topic. We encourage people to bring other art works that may be related to their writings\, for example showing us a song\, a painting\, a performance piece. The writings could be a poem\, a journal or writing detailing impressions of exhibitions\, or anything else. 2-5 euros tickets for use of the space. There will be the possibility to sign up to read throughout the night with the idea being to give reader’s as much time as they like.Bring you friends to enjoy our space and bar together!
URL:https://pas-berlin.org/event/writers-circle/
LOCATION:PAS\, Kaiserin-Augusta-Allee 101\, Hinterhof Aufgang II\, First Floor\, Berlin\, Berlin\, 10553\, Germany
END:VEVENT
BEGIN:VEVENT
DTSTART;TZID=UTC:20220228T200000
DTEND;TZID=UTC:20220228T233000
DTSTAMP:20260422T073738
CREATED:20220201T141255Z
LAST-MODIFIED:20220201T141255Z
UID:1028-1646078400-1646091000@pas-berlin.org
SUMMARY:Klub Demboh
DESCRIPTION:Erntefrische Musikagette serviert mit Percussionismus\, Bewegung und Stimme in heißem Timing.Klub Demboh bietet Konzerte mit innovativen Experimenten zwischen Musik\, Performance\, und Tanz. Jeden Montag Audio Visuelle Polyphonie im PAS in Moabit – kommen\, sehen\, staunen.
URL:https://pas-berlin.org/event/klub-demboh-5/
LOCATION:PAS\, Kaiserin-Augusta-Allee 101\, Hinterhof Aufgang II\, First Floor\, Berlin\, Berlin\, 10553\, Germany
CATEGORIES:Concert,Theatre
END:VEVENT
BEGIN:VEVENT
DTSTART;TZID=UTC:20220227T180000
DTEND;TZID=UTC:20220227T180000
DTSTAMP:20260422T073738
CREATED:20220201T142030Z
LAST-MODIFIED:20220201T142031Z
UID:1036-1645984800-1645984800@pas-berlin.org
SUMMARY:Cubicle Installation
DESCRIPTION:An exciting installation. Stay tuned for more!
URL:https://pas-berlin.org/event/cubicle-installation/
END:VEVENT
BEGIN:VEVENT
DTSTART;TZID=UTC:20220221T200000
DTEND;TZID=UTC:20220221T233000
DTSTAMP:20260422T073738
CREATED:20220201T141230Z
LAST-MODIFIED:20220201T141231Z
UID:1026-1645473600-1645486200@pas-berlin.org
SUMMARY:Klub Demboh
DESCRIPTION:Erntefrische Musikagette serviert mit Percussionismus\, Bewegung und Stimme in heißem Timing.Klub Demboh bietet Konzerte mit innovativen Experimenten zwischen Musik\, Performance\, und Tanz. Jeden Montag Audio Visuelle Polyphonie im PAS in Moabit – kommen\, sehen\, staunen.
URL:https://pas-berlin.org/event/klub-demboh-4/
LOCATION:PAS\, Kaiserin-Augusta-Allee 101\, Hinterhof Aufgang II\, First Floor\, Berlin\, Berlin\, 10553\, Germany
CATEGORIES:Concert,Theatre
END:VEVENT
BEGIN:VEVENT
DTSTART;TZID=UTC:20220217T190000
DTEND;TZID=UTC:20220217T190000
DTSTAMP:20260422T073738
CREATED:20220201T141911Z
LAST-MODIFIED:20220201T141911Z
UID:1034-1645124400-1645124400@pas-berlin.org
SUMMARY:Songwriters @ PAS
DESCRIPTION:A host of great songwriters performing hot content live.
URL:https://pas-berlin.org/event/songwriters-pas/
END:VEVENT
BEGIN:VEVENT
DTSTART;TZID=UTC:20220214T200000
DTEND;TZID=UTC:20220214T233000
DTSTAMP:20260422T073738
CREATED:20220201T141039Z
LAST-MODIFIED:20220201T141118Z
UID:1024-1644868800-1644881400@pas-berlin.org
SUMMARY:Klub Demboh
DESCRIPTION:Erntefrische Musikagette serviert mit Percussionismus\, Bewegung und Stimme in heißem Timing.Klub Demboh bietet Konzerte mit innovativen Experimenten zwischen Musik\, Performance\, und Tanz. Jeden Montag Audio Visuelle Polyphonie im PAS in Moabit – kommen\, sehen\, staunen.
URL:https://pas-berlin.org/event/klub-demboh-3/
LOCATION:PAS\, Kaiserin-Augusta-Allee 101\, Hinterhof Aufgang II\, First Floor\, Berlin\, Berlin\, 10553\, Germany
CATEGORIES:Concert,Theatre
END:VEVENT
BEGIN:VEVENT
DTSTART;TZID=UTC:20220211T190000
DTEND;TZID=UTC:20220212T030000
DTSTAMP:20260422T073738
CREATED:20220201T141800Z
LAST-MODIFIED:20220201T141801Z
UID:1032-1644606000-1644634800@pas-berlin.org
SUMMARY:Treehouse
DESCRIPTION:Climb up\, come in\, and hang out in this public living room. Bring your art supplies\, instruments\, records\, and/or good humour!
URL:https://pas-berlin.org/event/treehouse/
END:VEVENT
BEGIN:VEVENT
DTSTART;TZID=UTC:20220210T183000
DTEND;TZID=UTC:20220210T183000
DTSTAMP:20260422T073738
CREATED:20220201T141418Z
LAST-MODIFIED:20220201T141418Z
UID:1030-1644517800-1644517800@pas-berlin.org
SUMMARY:Jess Gaynor's Dance Performance
DESCRIPTION:Jess Gaynor has invited a host of talented dancers to perform at PAS.
URL:https://pas-berlin.org/event/jess-gaynors-dance-performance/
END:VEVENT
BEGIN:VEVENT
DTSTART;TZID=UTC:20220207T200000
DTEND;TZID=UTC:20220207T233000
DTSTAMP:20260422T073738
CREATED:20220201T111400Z
LAST-MODIFIED:20220201T140839Z
UID:1007-1644264000-1644276600@pas-berlin.org
SUMMARY:Klub Demboh
DESCRIPTION:Erntefrische Musikagette serviert mit Percussionismus\, Bewegung und Stimme in heißem Timing.Klub Demboh bietet Konzerte mit innovativen Experimenten zwischen Musik\, Performance\, und Tanz. Jeden Montag Audio Visuelle Polyphonie im PAS in Moabit – kommen\, sehen\, staunen.
URL:https://pas-berlin.org/event/klub-demboh/
LOCATION:PAS\, Kaiserin-Augusta-Allee 101\, Hinterhof Aufgang II\, First Floor\, Berlin\, Berlin\, 10553\, Germany
CATEGORIES:Concert,Theatre
END:VEVENT
BEGIN:VEVENT
DTSTART;TZID=UTC:20220203T200000
DTEND;TZID=UTC:20220203T230000
DTSTAMP:20260422T073738
CREATED:20220201T173000Z
LAST-MODIFIED:20220201T140703Z
UID:1017-1643918400-1643929200@pas-berlin.org
SUMMARY:Dissidents XXVI
DESCRIPTION:Axel Dörner – trumpetLorena Izquierdo – voiceChris Pitsiokos – saxophoneEmiliano Salvatore – electric guitarEdith Steyer – clarinet & saxophoneDissidents is a self-managed project by the artist Lorena Izquierdo from the Diàleg Obert art platform in the Berlin space PAS (Petersburg Art Space Berlin). It is an experimental music event\, mostly free improvisation with these objectives.2G+ event!Entrance in the courtyard\, Ausgang II 
URL:https://pas-berlin.org/event/dissidents-xxvi/
LOCATION:PAS\, Kaiserin-Augusta-Allee 101\, Hinterhof Aufgang II\, First Floor\, Berlin\, Berlin\, 10553\, Germany
CATEGORIES:Concert
END:VEVENT
BEGIN:VEVENT
DTSTART;TZID=UTC:20220114T200000
DTEND;TZID=UTC:20220114T230000
DTSTAMP:20260422T073738
CREATED:20220110T134916Z
LAST-MODIFIED:20220110T134917Z
UID:1014-1642190400-1642201200@pas-berlin.org
SUMMARY:QLH Organ Trio plus guests @ PAS
DESCRIPTION:QLH Organ trioLuca Marini: DrumsHan-earl Park: GuitarQuentin Tolimieri: OrganWith Guest John Dikeman: Saxophone \n\n\n\nDeep TurtleConor Cunningham – Sax\, ElectronicsAlessandro – Modular Synth / GuitarJoey Gavin – Guitar \n\n\n\n2G+ event please bring a negative test result
URL:https://pas-berlin.org/event/qlh-organ-trio-plus-guests-pas/
LOCATION:PAS\, Kaiserin-Augusta-Allee 101\, Hinterhof Aufgang II\, First Floor\, Berlin\, Berlin\, 10553\, Germany
END:VEVENT
BEGIN:VEVENT
DTSTART;TZID=UTC:20220112T200000
DTEND;TZID=UTC:20220112T230000
DTSTAMP:20260422T073738
CREATED:20220110T134742Z
LAST-MODIFIED:20220110T134743Z
UID:1012-1642017600-1642028400@pas-berlin.org
SUMMARY:Dissidents XXV
DESCRIPTION:Seljuk Rustum- Swaramandala\, SaxHada Benedito- Keys\, VoiceAziz Lewandowski – cello\, piano\, fluteQuentin Cholet\, drums \n\n\n\nLA COLALOBA:Lorena izquierdo\, voice and poetryGabriel Pedrosa\, voice poetry and electronic guitarGustavo Obligado\, saxGermán Gabriel Garcia\, trumpet \n\n\n\nDissidents is a self-managed project by the artist Lorena Izquierdo from the Diàleg Obert art platform in the Berlin space PAS (Petersburg Art Space Berlin). It is an experimental music event\, mostly free improvisation with these objectives. \n\n\n\n2G+ event!Entrance in the courtyard\, Ausgang II12 January | 20-00 See less
URL:https://pas-berlin.org/event/dissidents-xxv/
LOCATION:PAS\, Kaiserin-Augusta-Allee 101\, Hinterhof Aufgang II\, First Floor\, Berlin\, Berlin\, 10553\, Germany
END:VEVENT
BEGIN:VEVENT
DTSTART;TZID=UTC:20220110T200000
DTEND;TZID=UTC:20220110T233000
DTSTAMP:20260422T073738
CREATED:20220110T111430Z
LAST-MODIFIED:20220110T111454Z
UID:1010-1641844800-1641857400@pas-berlin.org
SUMMARY:Klub Demboh
DESCRIPTION:Erntefrische Musikagette serviert mit Percussionismus\, Bewegung und Stimme in heißem Timing.Klub Demboh bietet Konzerte mit innovativen Experimenten zwischen Musik\, Performance\, und Tanz. Jeden Montag Audio Visuelle Polyphonie im PAS in Moabit – kommen\, sehen\, staunen.
URL:https://pas-berlin.org/event/klub-demboh-2/
LOCATION:PAS\, Kaiserin-Augusta-Allee 101\, Hinterhof Aufgang II\, First Floor\, Berlin\, Berlin\, 10553\, Germany
CATEGORIES:Concert,Theatre
END:VEVENT
END:VCALENDAR